Package: CTDquerier Version: 2.14.0 Command: F:\biocbuild\bbs-3.20-bioc\R\bin\R.exe CMD INSTALL CTDquerier StartedAt: 2025-03-31 15:37:27 -0400 (Mon, 31 Mar 2025) EndedAt: 2025-03-31 15:37:58 -0400 (Mon, 31 Mar 2025) EllapsedTime: 31.0 seconds RetCode: 0 Status: OK