Package: CTDquerier Version: 2.14.0 Command: /Library/Frameworks/R.framework/Resources/bin/R CMD check --install=check:CTDquerier.install-out.txt --library=/Library/Frameworks/R.framework/Resources/library --no-vignettes --timings CTDquerier_2.14.0.tar.gz StartedAt: 2025-04-01 15:59:25 -0400 (Tue, 01 Apr 2025) EndedAt: 2025-04-01 16:01:32 -0400 (Tue, 01 Apr 2025) EllapsedTime: 126.9 seconds RetCode: 0 Status: WARNINGS CheckDir: CTDquerier.Rcheck Warnings: 1