Package: CTDquerier Version: 2.14.0 Command: /Library/Frameworks/R.framework/Resources/bin/R CMD build --keep-empty-dirs --no-resave-data CTDquerier StartedAt: 2025-03-31 21:39:50 -0400 (Mon, 31 Mar 2025) EndedAt: 2025-03-31 21:39:53 -0400 (Mon, 31 Mar 2025) EllapsedTime: 3.5 seconds RetCode: 0 Status: OK PackageFile: CTDquerier_2.14.0.tar.gz PackageFileSize: 2.803 MiB