Package: CSSQ Version: 1.18.0 Command: /home/biocbuild/R/R/bin/R CMD check --install=check:CSSQ.install-out.txt --library=/home/biocbuild/R/R/site-library --no-vignettes --timings CSSQ_1.18.0.tar.gz StartedAt: 2025-04-01 05:29:35 -0000 (Tue, 01 Apr 2025) EndedAt: 2025-04-01 05:34:37 -0000 (Tue, 01 Apr 2025) EllapsedTime: 302.2 seconds RetCode: 0 Status: OK CheckDir: CSSQ.Rcheck Warnings: 0