Package: CSSQ Version: 1.18.0 Command: F:\biocbuild\bbs-3.20-bioc\R\bin\R.exe CMD INSTALL CSSQ StartedAt: 2025-03-31 16:05:24 -0400 (Mon, 31 Mar 2025) EndedAt: 2025-03-31 16:06:06 -0400 (Mon, 31 Mar 2025) EllapsedTime: 41.6 seconds RetCode: 0 Status: OK