Package: CSSQ Version: 1.18.0 Command: F:\biocbuild\bbs-3.20-bioc\R\bin\R.exe CMD check --no-multiarch --install=check:CSSQ.install-out.txt --library=F:\biocbuild\bbs-3.20-bioc\R\library --no-vignettes --timings CSSQ_1.18.0.tar.gz StartedAt: 2025-04-01 00:30:02 -0400 (Tue, 01 Apr 2025) EndedAt: 2025-04-01 00:39:01 -0400 (Tue, 01 Apr 2025) EllapsedTime: 538.5 seconds RetCode: 0 Status: OK CheckDir: CSSQ.Rcheck Warnings: 0