Package: CSSQ Version: 1.18.0 Command: chmod a+r CSSQ -R && F:\biocbuild\bbs-3.20-bioc\R\bin\R.exe CMD build --keep-empty-dirs --no-resave-data CSSQ StartedAt: 2025-03-31 18:15:26 -0400 (Mon, 31 Mar 2025) EndedAt: 2025-03-31 18:19:21 -0400 (Mon, 31 Mar 2025) EllapsedTime: 234.4 seconds RetCode: 0 Status: OK PackageFile: CSSQ_1.18.0.tar.gz PackageFileSize: 866 KiB