Package: CSSQ Version: 1.18.0 Command: /home/biocbuild/bbs-3.20-bioc/R/bin/R CMD check --install=check:CSSQ.install-out.txt --library=/home/biocbuild/bbs-3.20-bioc/R/site-library --timings CSSQ_1.18.0.tar.gz StartedAt: 2025-03-31 21:12:20 -0400 (Mon, 31 Mar 2025) EndedAt: 2025-03-31 21:17:14 -0400 (Mon, 31 Mar 2025) EllapsedTime: 293.2 seconds RetCode: 0 Status: OK CheckDir: CSSQ.Rcheck Warnings: 0