Package: CSSQ Version: 1.18.0 Command: /Library/Frameworks/R.framework/Resources/bin/R CMD build --keep-empty-dirs --no-resave-data CSSQ StartedAt: 2025-03-31 18:00:32 -0400 (Mon, 31 Mar 2025) EndedAt: 2025-03-31 18:02:29 -0400 (Mon, 31 Mar 2025) EllapsedTime: 116.9 seconds RetCode: 0 Status: OK PackageFile: CSSQ_1.18.0.tar.gz PackageFileSize: 866.3 KiB