Package: CSSQ Version: 1.18.0 Command: rm -rf CSSQ.buildbin-libdir && mkdir CSSQ.buildbin-libdir && /Users/biocbuild/BBS/utils/build-universal.sh CSSQ_1.18.0.tar.gz /Library/Frameworks/R.framework/Resources/bin/R CSSQ.buildbin-libdir StartedAt: 2025-04-01 11:41:26 -0400 (Tue, 01 Apr 2025) EndedAt: 2025-04-01 11:42:44 -0400 (Tue, 01 Apr 2025) EllapsedTime: 77.9 seconds RetCode: 0 Status: OK PackageFile: CSSQ_1.18.0.tgz PackageFileSize: 926.1 KiB