Package: CSSQ Version: 1.18.0 Command: /Library/Frameworks/R.framework/Resources/bin/R CMD check --install=check:CSSQ.install-out.txt --library=/Library/Frameworks/R.framework/Resources/library --no-vignettes --timings CSSQ_1.18.0.tar.gz StartedAt: 2025-04-01 15:56:48 -0400 (Tue, 01 Apr 2025) EndedAt: 2025-04-01 16:01:14 -0400 (Tue, 01 Apr 2025) EllapsedTime: 266.0 seconds RetCode: 0 Status: OK CheckDir: CSSQ.Rcheck Warnings: 0