Package: CSAR Version: 1.58.0 Command: /Library/Frameworks/R.framework/Resources/bin/R CMD INSTALL CSAR StartedAt: 2025-03-31 15:14:53 -0400 (Mon, 31 Mar 2025) EndedAt: 2025-03-31 15:15:15 -0400 (Mon, 31 Mar 2025) EllapsedTime: 22.2 seconds RetCode: 0 Status: OK