Package: CSAR Version: 1.58.0 Command: rm -rf CSAR.buildbin-libdir && mkdir CSAR.buildbin-libdir && /Users/biocbuild/BBS/utils/build-universal.sh CSAR_1.58.0.tar.gz /Library/Frameworks/R.framework/Resources/bin/R CSAR.buildbin-libdir StartedAt: 2025-04-01 11:41:19 -0400 (Tue, 01 Apr 2025) EndedAt: 2025-04-01 11:41:44 -0400 (Tue, 01 Apr 2025) EllapsedTime: 24.9 seconds RetCode: 0 Status: OK PackageFile: CSAR_1.58.0.tgz PackageFileSize: 304.4 KiB