Package: CSAR Version: 1.58.0 Command: /Library/Frameworks/R.framework/Resources/bin/R CMD INSTALL CSAR StartedAt: 2025-03-31 15:26:12 -0400 (Mon, 31 Mar 2025) EndedAt: 2025-03-31 15:26:25 -0400 (Mon, 31 Mar 2025) EllapsedTime: 12.1 seconds RetCode: 0 Status: OK