Package: CSAR Version: 1.58.0 Command: /Library/Frameworks/R.framework/Resources/bin/R CMD check --install=check:CSAR.install-out.txt --library=/Library/Frameworks/R.framework/Resources/library --no-vignettes --timings CSAR_1.58.0.tar.gz StartedAt: 2025-04-01 15:54:19 -0400 (Tue, 01 Apr 2025) EndedAt: 2025-04-01 15:57:03 -0400 (Tue, 01 Apr 2025) EllapsedTime: 163.7 seconds RetCode: 0 Status: OK CheckDir: CSAR.Rcheck Warnings: 0