Package: CRImage Version: 1.54.0 Command: F:\biocbuild\bbs-3.20-bioc\R\bin\R.exe CMD INSTALL CRImage StartedAt: 2025-03-31 16:43:53 -0400 (Mon, 31 Mar 2025) EndedAt: 2025-03-31 16:44:20 -0400 (Mon, 31 Mar 2025) EllapsedTime: 26.5 seconds RetCode: 0 Status: OK