Package: CRImage Version: 1.54.0 Command: rm -rf CRImage.buildbin-libdir && mkdir CRImage.buildbin-libdir && F:\biocbuild\bbs-3.20-bioc\R\bin\R.exe CMD INSTALL --build --library=CRImage.buildbin-libdir CRImage_1.54.0.tar.gz StartedAt: 2025-04-01 07:59:07 -0400 (Tue, 01 Apr 2025) EndedAt: 2025-04-01 07:59:30 -0400 (Tue, 01 Apr 2025) EllapsedTime: 22.5 seconds RetCode: 0 Status: OK PackageFile: CRImage_1.54.0.zip PackageFileSize: 6.459 MiB