Package: CRImage Version: 1.54.0 Command: /Library/Frameworks/R.framework/Resources/bin/R CMD check --install=check:CRImage.install-out.txt --library=/Library/Frameworks/R.framework/Resources/library --no-vignettes --timings CRImage_1.54.0.tar.gz StartedAt: 2025-04-01 01:20:13 -0400 (Tue, 01 Apr 2025) EndedAt: 2025-04-01 01:22:58 -0400 (Tue, 01 Apr 2025) EllapsedTime: 164.7 seconds RetCode: 0 Status: OK CheckDir: CRImage.Rcheck Warnings: 0