Package: CRImage Version: 1.54.0 Command: rm -rf CRImage.buildbin-libdir && mkdir CRImage.buildbin-libdir && /Users/biocbuild/BBS/utils/build-universal.sh CRImage_1.54.0.tar.gz /Library/Frameworks/R.framework/Resources/bin/R CRImage.buildbin-libdir StartedAt: 2025-04-01 11:40:34 -0400 (Tue, 01 Apr 2025) EndedAt: 2025-04-01 11:41:01 -0400 (Tue, 01 Apr 2025) EllapsedTime: 27.4 seconds RetCode: 0 Status: OK PackageFile: CRImage_1.54.0.tgz PackageFileSize: 6.549 MiB