Package: CRImage Version: 1.54.0 Command: /Library/Frameworks/R.framework/Resources/bin/R CMD INSTALL CRImage StartedAt: 2025-03-31 17:25:27 -0400 (Mon, 31 Mar 2025) EndedAt: 2025-03-31 17:25:39 -0400 (Mon, 31 Mar 2025) EllapsedTime: 12.1 seconds RetCode: 0 Status: OK