Package: CRImage Version: 1.54.0 Command: /Library/Frameworks/R.framework/Resources/bin/R CMD build --keep-empty-dirs --no-resave-data CRImage StartedAt: 2025-03-31 21:31:11 -0400 (Mon, 31 Mar 2025) EndedAt: 2025-03-31 21:31:43 -0400 (Mon, 31 Mar 2025) EllapsedTime: 31.1 seconds RetCode: 0 Status: OK PackageFile: CRImage_1.54.0.tar.gz PackageFileSize: 7.651 MiB