Package: CRISPRseek Version: 1.46.0 Command: /home/biocbuild/R/R/bin/R CMD INSTALL CRISPRseek StartedAt: 2025-03-31 20:33:20 -0000 (Mon, 31 Mar 2025) EndedAt: 2025-03-31 20:34:08 -0000 (Mon, 31 Mar 2025) EllapsedTime: 48.5 seconds RetCode: 0 Status: OK