Package: CRISPRseek Version: 1.46.0 Command: /home/biocbuild/R/R/bin/R CMD build --keep-empty-dirs --no-resave-data CRISPRseek StartedAt: 2025-03-31 22:48:07 -0000 (Mon, 31 Mar 2025) EndedAt: 2025-03-31 22:51:45 -0000 (Mon, 31 Mar 2025) EllapsedTime: 218.1 seconds RetCode: 0 Status: OK PackageFile: CRISPRseek_1.46.0.tar.gz PackageFileSize: 10.73 MiB