Package: CRISPRseek Version: 1.46.0 Command: /home/biocbuild/bbs-3.20-bioc/R/bin/R CMD INSTALL CRISPRseek StartedAt: 2025-03-31 15:26:36 -0400 (Mon, 31 Mar 2025) EndedAt: 2025-03-31 15:27:13 -0400 (Mon, 31 Mar 2025) EllapsedTime: 36.9 seconds RetCode: 0 Status: OK