Package: CRISPRseek Version: 1.46.0 Command: /home/biocbuild/bbs-3.20-bioc/R/bin/R CMD check --install=check:CRISPRseek.install-out.txt --library=/home/biocbuild/bbs-3.20-bioc/R/site-library --timings CRISPRseek_1.46.0.tar.gz StartedAt: 2025-03-31 21:09:40 -0400 (Mon, 31 Mar 2025) EndedAt: 2025-03-31 21:39:40 -0400 (Mon, 31 Mar 2025) EllapsedTime: 1799.8 seconds RetCode: 0 Status: OK CheckDir: CRISPRseek.Rcheck Warnings: 0