Package: CRISPRseek Version: 1.46.0 Command: /Library/Frameworks/R.framework/Resources/bin/R CMD check --install=check:CRISPRseek.install-out.txt --library=/Library/Frameworks/R.framework/Resources/library --no-vignettes --timings CRISPRseek_1.46.0.tar.gz StartedAt: 2025-04-01 15:40:21 -0400 (Tue, 01 Apr 2025) EndedAt: 2025-04-01 16:20:21 -0400 (Tue, 01 Apr 2025) EllapsedTime: 2400.1 seconds RetCode: None Status: TIMEOUT CheckDir: CRISPRseek.Rcheck Warnings: NA