Package: CRISPRseek Version: 1.46.0 Command: /Library/Frameworks/R.framework/Resources/bin/R CMD build --keep-empty-dirs --no-resave-data CRISPRseek StartedAt: 2025-03-31 21:33:05 -0400 (Mon, 31 Mar 2025) EndedAt: 2025-03-31 21:37:09 -0400 (Mon, 31 Mar 2025) EllapsedTime: 243.6 seconds RetCode: 0 Status: OK PackageFile: CRISPRseek_1.46.0.tar.gz PackageFileSize: 10.74 MiB