Package: CRISPRseek Version: 1.46.0 Command: rm -rf CRISPRseek.buildbin-libdir && mkdir CRISPRseek.buildbin-libdir && /Users/biocbuild/BBS/utils/build-universal.sh CRISPRseek_1.46.0.tar.gz /Library/Frameworks/R.framework/Resources/bin/R CRISPRseek.buildbin-libdir StartedAt: 2025-04-02 13:54:48 -0400 (Wed, 02 Apr 2025) EndedAt: 2025-04-02 13:55:41 -0400 (Wed, 02 Apr 2025) EllapsedTime: 53.1 seconds RetCode: 0 Status: OK PackageFile: CRISPRseek_1.46.0.tgz PackageFileSize: 11 MiB