Package: CRISPRball Version: 1.2.0 Command: /home/biocbuild/R/R/bin/R CMD build --keep-empty-dirs --no-resave-data CRISPRball StartedAt: 2025-03-31 22:47:27 -0000 (Mon, 31 Mar 2025) EndedAt: 2025-03-31 22:48:30 -0000 (Mon, 31 Mar 2025) EllapsedTime: 63.0 seconds RetCode: 0 Status: OK PackageFile: CRISPRball_1.2.0.tar.gz PackageFileSize: 2.68 MiB