Package: CRISPRball Version: 1.2.0 Command: /Library/Frameworks/R.framework/Resources/bin/R CMD build --keep-empty-dirs --no-resave-data CRISPRball StartedAt: 2025-03-31 17:58:12 -0400 (Mon, 31 Mar 2025) EndedAt: 2025-03-31 18:00:08 -0400 (Mon, 31 Mar 2025) EllapsedTime: 116.2 seconds RetCode: 0 Status: OK PackageFile: CRISPRball_1.2.0.tar.gz PackageFileSize: 2.614 MiB