Package: COTAN Version: 2.6.4 Command: /home/biocbuild/bbs-3.20-bioc/R/bin/R CMD INSTALL COTAN StartedAt: 2025-03-31 15:52:32 -0400 (Mon, 31 Mar 2025) EndedAt: 2025-03-31 15:53:13 -0400 (Mon, 31 Mar 2025) EllapsedTime: 41.6 seconds RetCode: 0 Status: OK