Package: COTAN Version: 2.6.4 Command: /home/biocbuild/bbs-3.20-bioc/R/bin/R CMD check --install=check:COTAN.install-out.txt --library=/home/biocbuild/bbs-3.20-bioc/R/site-library --timings COTAN_2.6.4.tar.gz StartedAt: 2025-03-31 21:06:01 -0400 (Mon, 31 Mar 2025) EndedAt: 2025-03-31 21:29:40 -0400 (Mon, 31 Mar 2025) EllapsedTime: 1419.4 seconds RetCode: 1 Status: ERROR CheckDir: COTAN.Rcheck Warnings: NA