Package: COSNet Version: 1.40.0 Command: /home/biocbuild/R/R/bin/R CMD INSTALL COSNet StartedAt: 2025-03-31 20:13:48 -0000 (Mon, 31 Mar 2025) EndedAt: 2025-03-31 20:14:12 -0000 (Mon, 31 Mar 2025) EllapsedTime: 24.2 seconds RetCode: 0 Status: OK