Package: COSNet Version: 1.40.0 Command: /Library/Frameworks/R.framework/Resources/bin/R CMD build --keep-empty-dirs --no-resave-data COSNet StartedAt: 2025-03-31 21:26:44 -0400 (Mon, 31 Mar 2025) EndedAt: 2025-03-31 21:28:50 -0400 (Mon, 31 Mar 2025) EllapsedTime: 126.5 seconds RetCode: 0 Status: OK PackageFile: COSNet_1.40.0.tar.gz PackageFileSize: 519.7 KiB