Package: COSNet Version: 1.40.0 Command: rm -rf COSNet.buildbin-libdir && mkdir COSNet.buildbin-libdir && /Users/biocbuild/BBS/utils/build-universal.sh COSNet_1.40.0.tar.gz /Library/Frameworks/R.framework/Resources/bin/R COSNet.buildbin-libdir StartedAt: 2025-04-02 13:53:07 -0400 (Wed, 02 Apr 2025) EndedAt: 2025-04-02 13:53:13 -0400 (Wed, 02 Apr 2025) EllapsedTime: 5.6 seconds RetCode: 0 Status: OK PackageFile: COSNet_1.40.0.tgz PackageFileSize: 560 KiB