Package: CONSTANd Version: 1.14.0 Command: /home/biocbuild/R/R/bin/R CMD check --install=check:CONSTANd.install-out.txt --library=/home/biocbuild/R/R/site-library --no-vignettes --timings CONSTANd_1.14.0.tar.gz StartedAt: 2025-04-01 05:20:17 -0000 (Tue, 01 Apr 2025) EndedAt: 2025-04-01 05:20:41 -0000 (Tue, 01 Apr 2025) EllapsedTime: 24.0 seconds RetCode: 0 Status: OK CheckDir: CONSTANd.Rcheck Warnings: 0