Package: CONSTANd Version: 1.14.0 Command: chmod a+r CONSTANd -R && F:\biocbuild\bbs-3.20-bioc\R\bin\R.exe CMD build --keep-empty-dirs --no-resave-data CONSTANd StartedAt: 2025-03-31 18:11:10 -0400 (Mon, 31 Mar 2025) EndedAt: 2025-03-31 18:11:25 -0400 (Mon, 31 Mar 2025) EllapsedTime: 15.7 seconds RetCode: 0 Status: OK PackageFile: CONSTANd_1.14.0.tar.gz PackageFileSize: 1.669 MiB