Package: CONSTANd Version: 1.14.0 Command: /Library/Frameworks/R.framework/Resources/bin/R CMD build --keep-empty-dirs --no-resave-data CONSTANd StartedAt: 2025-03-31 21:21:05 -0400 (Mon, 31 Mar 2025) EndedAt: 2025-03-31 21:21:18 -0400 (Mon, 31 Mar 2025) EllapsedTime: 13.3 seconds RetCode: 0 Status: OK PackageFile: CONSTANd_1.14.0.tar.gz PackageFileSize: 1.696 MiB