Package: CONFESS Version: 1.34.0 Command: /Library/Frameworks/R.framework/Resources/bin/R CMD INSTALL CONFESS StartedAt: 2025-03-31 16:13:12 -0400 (Mon, 31 Mar 2025) EndedAt: 2025-03-31 16:15:33 -0400 (Mon, 31 Mar 2025) EllapsedTime: 140.7 seconds RetCode: 0 Status: OK