Package: COMPASS Version: 1.44.0 Command: chmod a+r COMPASS -R && F:\biocbuild\bbs-3.20-bioc\R\bin\R.exe CMD build --keep-empty-dirs --no-resave-data COMPASS StartedAt: 2025-03-31 18:08:06 -0400 (Mon, 31 Mar 2025) EndedAt: 2025-03-31 18:15:05 -0400 (Mon, 31 Mar 2025) EllapsedTime: 419.1 seconds RetCode: 0 Status: OK PackageFile: COMPASS_1.44.0.tar.gz PackageFileSize: 1.115 MiB