Package: COMPASS Version: 1.44.0 Command: /Library/Frameworks/R.framework/Resources/bin/R CMD build --keep-empty-dirs --no-resave-data COMPASS StartedAt: 2025-03-31 17:51:19 -0400 (Mon, 31 Mar 2025) EndedAt: 2025-03-31 18:04:28 -0400 (Mon, 31 Mar 2025) EllapsedTime: 788.9 seconds RetCode: 0 Status: OK PackageFile: COMPASS_1.44.0.tar.gz PackageFileSize: 1.305 MiB