Package: COMPASS Version: 1.44.0 Command: rm -rf COMPASS.buildbin-libdir && mkdir COMPASS.buildbin-libdir && /Users/biocbuild/BBS/utils/build-universal.sh COMPASS_1.44.0.tar.gz /Library/Frameworks/R.framework/Resources/bin/R COMPASS.buildbin-libdir StartedAt: 2025-04-01 11:38:55 -0400 (Tue, 01 Apr 2025) EndedAt: 2025-04-01 11:39:35 -0400 (Tue, 01 Apr 2025) EllapsedTime: 39.2 seconds RetCode: 0 Status: OK PackageFile: COMPASS_1.44.0.tgz PackageFileSize: 1.421 MiB