Package: CODEX Version: 1.38.0 Command: chmod a+r CODEX -R && F:\biocbuild\bbs-3.20-bioc\R\bin\R.exe CMD build --keep-empty-dirs --no-resave-data CODEX StartedAt: 2025-03-31 18:06:45 -0400 (Mon, 31 Mar 2025) EndedAt: 2025-03-31 18:09:32 -0400 (Mon, 31 Mar 2025) EllapsedTime: 166.9 seconds RetCode: 0 Status: OK PackageFile: CODEX_1.38.0.tar.gz PackageFileSize: 824.1 KiB