Package: CODEX Version: 1.38.0 Command: rm -rf CODEX.buildbin-libdir && mkdir CODEX.buildbin-libdir && /Users/biocbuild/BBS/utils/build-universal.sh CODEX_1.38.0.tar.gz /Library/Frameworks/R.framework/Resources/bin/R CODEX.buildbin-libdir StartedAt: 2025-04-01 11:38:34 -0400 (Tue, 01 Apr 2025) EndedAt: 2025-04-01 11:39:41 -0400 (Tue, 01 Apr 2025) EllapsedTime: 67.6 seconds RetCode: 0 Status: OK PackageFile: CODEX_1.38.0.tgz PackageFileSize: 1.324 MiB