Package: COCOA Version: 2.20.0 Command: /Library/Frameworks/R.framework/Resources/bin/R CMD INSTALL COCOA StartedAt: 2025-03-31 16:23:11 -0400 (Mon, 31 Mar 2025) EndedAt: 2025-03-31 16:24:34 -0400 (Mon, 31 Mar 2025) EllapsedTime: 83.4 seconds RetCode: 0 Status: OK