Package: COCOA Version: 2.20.0 Command: /Library/Frameworks/R.framework/Resources/bin/R CMD build --keep-empty-dirs --no-resave-data COCOA StartedAt: 2025-03-31 17:49:00 -0400 (Mon, 31 Mar 2025) EndedAt: 2025-03-31 17:53:02 -0400 (Mon, 31 Mar 2025) EllapsedTime: 242.5 seconds RetCode: 0 Status: OK PackageFile: COCOA_2.20.0.tar.gz PackageFileSize: 3.456 MiB