Package: CNVPanelizer Version: 1.38.0 Command: /home/biocbuild/R/R/bin/R CMD INSTALL CNVPanelizer StartedAt: 2025-03-31 21:07:20 -0000 (Mon, 31 Mar 2025) EndedAt: 2025-03-31 21:07:46 -0000 (Mon, 31 Mar 2025) EllapsedTime: 26.1 seconds RetCode: 0 Status: OK