Package: CNTools Version: 1.62.0 Command: /home/biocbuild/R/R/bin/R CMD build --keep-empty-dirs --no-resave-data CNTools StartedAt: 2025-03-31 22:37:54 -0000 (Mon, 31 Mar 2025) EndedAt: 2025-03-31 22:38:27 -0000 (Mon, 31 Mar 2025) EllapsedTime: 33.0 seconds RetCode: 0 Status: OK PackageFile: CNTools_1.62.0.tar.gz PackageFileSize: 954.7 KiB