Package: CNTools Version: 1.62.0 Command: /Library/Frameworks/R.framework/Resources/bin/R CMD check --install=check:CNTools.install-out.txt --library=/Library/Frameworks/R.framework/Resources/library --no-vignettes --timings CNTools_1.62.0.tar.gz StartedAt: 2025-04-01 00:59:00 -0400 (Tue, 01 Apr 2025) EndedAt: 2025-04-01 01:04:01 -0400 (Tue, 01 Apr 2025) EllapsedTime: 300.8 seconds RetCode: 0 Status: OK CheckDir: CNTools.Rcheck Warnings: 0