Package: CNTools Version: 1.62.0 Command: /Library/Frameworks/R.framework/Resources/bin/R CMD build --keep-empty-dirs --no-resave-data CNTools StartedAt: 2025-03-31 17:48:09 -0400 (Mon, 31 Mar 2025) EndedAt: 2025-03-31 17:49:17 -0400 (Mon, 31 Mar 2025) EllapsedTime: 68.1 seconds RetCode: 0 Status: OK PackageFile: CNTools_1.62.0.tar.gz PackageFileSize: 958.9 KiB